BEGIN:VCALENDAR
PRODID:-//PUBBLE//agenda//NL
VERSION:2.0
METHOD:PUBLISH
BEGIN:VEVENT
DTSTART:20260425T080000Z
DTEND:20260425T103000Z
DTSTAMP:20260425T150213Z
UID:b06cc6bb-1586-4d12-982f-64ad6c979c2a
CREATED:20260425T150213Z
NAME:Workshop vilten goudsepost.nl
X-WR-CALNAME:Workshop vilten
X-ALT-DESC;FMTTYPE=text/html:<a href='/agenda/2026/4/25/workshop-vilten-461505'>/agenda/2026/4/25/workshop-vilten-461505</a> || <p>Boek en Troost (Ruimte voor Rouw) verzorgt een workshop vilten. Creatief werken en het ontmoeten van lotgenoten vormen een waardevolle combinatie. Tijdens deze workshop wordt gewerkt met zachte wol, waarbij handen, gedachten en gevoelens hun eigen weg kunnen volgen. Er wordt een vilten lap gemaakt van ongeveer 20 x 30 cm, die desgewenst versierd kan worden met borduurwerk. Van deze lap kan een mapje worden gemaakt om een persoonlijke herinnering aan een dierbare in te bewaren. Ervaring is niet vereist. Kosten: 10 euro (inclusief materiaal en consumpties).<br />Inloop vanaf 9.45 uur. Meer informatie en aanmelden: <a href="http://www.boek-en-troost.nl" target="_blank">www.boek-en-troost.nl</a>.</p>
DESCRIPTION:<a href='/agenda/2026/4/25/workshop-vilten-461505'>/agenda/2026/4/25/workshop-vilten-461505</a> || <p>Boek en Troost (Ruimte voor Rouw) verzorgt een workshop vilten. Creatief werken en het ontmoeten van lotgenoten vormen een waardevolle combinatie. Tijdens deze workshop wordt gewerkt met zachte wol, waarbij handen, gedachten en gevoelens hun eigen weg kunnen volgen. Er wordt een vilten lap gemaakt van ongeveer 20 x 30 cm, die desgewenst versierd kan worden met borduurwerk. Van deze lap kan een mapje worden gemaakt om een persoonlijke herinnering aan een dierbare in te bewaren. Ervaring is niet vereist. Kosten: 10 euro (inclusief materiaal en consumpties).<br />Inloop vanaf 9.45 uur. Meer informatie en aanmelden: <a href="http://www.boek-en-troost.nl" target="_blank">www.boek-en-troost.nl</a>.</p>
LAST-MODIFIED:20260425T150213Z
LOCATION: Buurtpunt Zoutman | Zoutmanplein 6A Gouda
SEQUENCE:0
STATUS:CONFIRMED
SUMMARY:Workshop vilten
TRANSP:OPAQUE
END:VEVENT
END:VCALENDAR
