BEGIN:VCALENDAR
PRODID:-//PUBBLE//agenda//NL
VERSION:2.0
METHOD:PUBLISH
BEGIN:VEVENT
DTSTART:20260417T070202Z
DTEND:20260417T080202Z
DTSTAMP:20260425T150027Z
UID:021edd86-4c02-408f-a0fc-ed48d646c096
CREATED:20260425T150027Z
NAME:Muziek | Jansen & Kraayenhof - Melancholie in de Polder 2 goudsepost.nl
X-WR-CALNAME:Muziek | Jansen & Kraayenhof - Melancholie in de Polder 2
X-ALT-DESC;FMTTYPE=text/html:<a href='/agenda/2026/4/25/muziek-jansen-amp-kraayenhof-melancholie-in-de-polder-2-461322'>/agenda/2026/4/25/muziek-jansen-amp-kraayenhof-melancholie-in-de-polder-2-461322</a> || <p>Leonie Jansen en Carel Kraayenhof verzorgen een optreden in Theater Concordia met de voorstelling ‘Melancholie in de Polder 2’. In dit programma nemen zij het publiek opnieuw mee op een muzikale reis. Ze brengen een mix van internationale folkmuziek, waaronder Ierse en Schotse invloeden en Argentijnse volksmuziek. Ook instrumentale stukken en Nederlandstalige nummers maken deel uit van het concert. Het optreden vindt plaats als zitconcert. Kaarten kosten 21,50 euro en zijn verkrijgbaar via <a href="https://www.theaterconcordia.nl" target="_blank">www.theaterconcordia.nl</a>.</p>
DESCRIPTION:<a href='/agenda/2026/4/25/muziek-jansen-amp-kraayenhof-melancholie-in-de-polder-2-461322'>/agenda/2026/4/25/muziek-jansen-amp-kraayenhof-melancholie-in-de-polder-2-461322</a> || <p>Leonie Jansen en Carel Kraayenhof verzorgen een optreden in Theater Concordia met de voorstelling ‘Melancholie in de Polder 2’. In dit programma nemen zij het publiek opnieuw mee op een muzikale reis. Ze brengen een mix van internationale folkmuziek, waaronder Ierse en Schotse invloeden en Argentijnse volksmuziek. Ook instrumentale stukken en Nederlandstalige nummers maken deel uit van het concert. Het optreden vindt plaats als zitconcert. Kaarten kosten 21,50 euro en zijn verkrijgbaar via <a href="https://www.theaterconcordia.nl" target="_blank">www.theaterconcordia.nl</a>.</p>
LAST-MODIFIED:20260425T150027Z
LOCATION: Theater Concordia | Concordiaplein 1 Haastrecht
SEQUENCE:0
STATUS:CONFIRMED
SUMMARY:Muziek | Jansen & Kraayenhof - Melancholie in de Polder 2
TRANSP:OPAQUE
END:VEVENT
END:VCALENDAR
