BEGIN:VCALENDAR
PRODID:-//PUBBLE//agenda//NL
VERSION:2.0
METHOD:PUBLISH
BEGIN:VEVENT
DTSTART:20260425T140000Z
DTEND:20260425T150000Z
DTSTAMP:20260425T142609Z
UID:d79599b7-b22d-4ba6-a288-17b5e97d4502
CREATED:20260425T142609Z
NAME:Zaterdagmiddagconcert | Ensemble Kokako goudsepost.nl
X-WR-CALNAME:Zaterdagmiddagconcert | Ensemble Kokako
X-ALT-DESC;FMTTYPE=text/html:<a href='/agenda/2026/4/25/zaterdagmiddagconcert-ensemble-kokako-460831'>/agenda/2026/4/25/zaterdagmiddagconcert-ensemble-kokako-460831</a> || <p>Ensemble Kokako verzorgt het zaterdagmiddagconcert in de Sint-Janskerk. Dit trio voor hedendaagse kamermuziek bestaat uit klarinettist Anja van Dooren, fluitist Alwin de Vries en pianist Josje Lodder. Ze laten werken horen van uitsluitend vrouwelijke componisten, met muziek van o.a. Alice Ping Yee Ho, Anja van Dooren, Florence B. Price en Libby Larsen.</p>
DESCRIPTION:<a href='/agenda/2026/4/25/zaterdagmiddagconcert-ensemble-kokako-460831'>/agenda/2026/4/25/zaterdagmiddagconcert-ensemble-kokako-460831</a> || <p>Ensemble Kokako verzorgt het zaterdagmiddagconcert in de Sint-Janskerk. Dit trio voor hedendaagse kamermuziek bestaat uit klarinettist Anja van Dooren, fluitist Alwin de Vries en pianist Josje Lodder. Ze laten werken horen van uitsluitend vrouwelijke componisten, met muziek van o.a. Alice Ping Yee Ho, Anja van Dooren, Florence B. Price en Libby Larsen.</p>
LAST-MODIFIED:20260425T142609Z
LOCATION: Sint-Jan | Achter de Kerk 2 Gouda
SEQUENCE:0
STATUS:CONFIRMED
SUMMARY:Zaterdagmiddagconcert | Ensemble Kokako
TRANSP:OPAQUE
END:VEVENT
END:VCALENDAR
