BEGIN:VCALENDAR
PRODID:-//PUBBLE//agenda//NL
VERSION:2.0
METHOD:PUBLISH
BEGIN:VEVENT
DTSTART:20260420T120000Z
DTEND:20260420T133000Z
DTSTAMP:20260420T141429Z
UID:a31698eb-85c6-4ffb-92a1-8bc9f9809c77
CREATED:20260420T141429Z
NAME:Creatieve middag goudsepost.nl
X-WR-CALNAME:Creatieve middag
X-ALT-DESC;FMTTYPE=text/html:<a href='/agenda/2026/4/20/creatieve-middag-457823'>/agenda/2026/4/20/creatieve-middag-457823</a> || <p>Elke maandag organiseert Het Bruisnest een creatieve activiteit. Het draait om plezier, ontmoeting en creativiteit, niet om talent. Deze keer: mandala stenen beschilderen. Kosten: 2,50 euro. Aanmelden: info@hetbruisnest.nl of (0182) 522435. Het Bruisnest is een ontwikkelingsplaats waar mensen hun kwaliteiten kunnen inzetten om zo weer te groeien naar een plek in de maatschappij. &nbsp;</p>
DESCRIPTION:<a href='/agenda/2026/4/20/creatieve-middag-457823'>/agenda/2026/4/20/creatieve-middag-457823</a> || <p>Elke maandag organiseert Het Bruisnest een creatieve activiteit. Het draait om plezier, ontmoeting en creativiteit, niet om talent. Deze keer: mandala stenen beschilderen. Kosten: 2,50 euro. Aanmelden: info@hetbruisnest.nl of (0182) 522435. Het Bruisnest is een ontwikkelingsplaats waar mensen hun kwaliteiten kunnen inzetten om zo weer te groeien naar een plek in de maatschappij. &nbsp;</p>
LAST-MODIFIED:20260420T141429Z
LOCATION: Het Bruisnest | Lekkenburg 2-01 Gouda
SEQUENCE:0
STATUS:CONFIRMED
SUMMARY:Creatieve middag
TRANSP:OPAQUE
END:VEVENT
END:VCALENDAR
