BEGIN:VCALENDAR
PRODID:-//PUBBLE//agenda//NL
VERSION:2.0
METHOD:PUBLISH
BEGIN:VEVENT
DTSTART:20260109T180000Z
DTEND:20260109T190000Z
DTSTAMP:20260426T022939Z
UID:5b3b39d2-5392-4b4a-830b-5d644cec1bf6
CREATED:20260426T022939Z
NAME:Musical | De onverwoeste zusters van Hoogezand-Sappemeer goudsepost.nl
X-WR-CALNAME:Musical | De onverwoeste zusters van Hoogezand-Sappemeer
X-ALT-DESC;FMTTYPE=text/html:<a href='/agenda/2026/1/9/musical-de-onverwoeste-zusters-van-hoogezand-sappemeer-447398'>/agenda/2026/1/9/musical-de-onverwoeste-zusters-van-hoogezand-sappemeer-447398</a> || <p>Ilse Warringa en Rop Verheijen brengen een nieuwe, muzikale komedie over zussenstrijd, liefde en het doorbreken van de mannelijke norm. Met een topcast, scherpe humor en prachtige gedichten op muziek ontstaat een grappige en verrassend ontroerende voorstelling. Kaarten verkrijgbaar via: <a href="//www.goudseschouwburg.nl">www.goudseschouwburg.nl</a>.</p>
DESCRIPTION:<a href='/agenda/2026/1/9/musical-de-onverwoeste-zusters-van-hoogezand-sappemeer-447398'>/agenda/2026/1/9/musical-de-onverwoeste-zusters-van-hoogezand-sappemeer-447398</a> || <p>Ilse Warringa en Rop Verheijen brengen een nieuwe, muzikale komedie over zussenstrijd, liefde en het doorbreken van de mannelijke norm. Met een topcast, scherpe humor en prachtige gedichten op muziek ontstaat een grappige en verrassend ontroerende voorstelling. Kaarten verkrijgbaar via: <a href="//www.goudseschouwburg.nl">www.goudseschouwburg.nl</a>.</p>
LAST-MODIFIED:20260426T022939Z
LOCATION: De Goudse Schouwburg | Boelekade 67 Gouda
SEQUENCE:0
STATUS:CONFIRMED
SUMMARY:Musical | De onverwoeste zusters van Hoogezand-Sappemeer
TRANSP:OPAQUE
END:VEVENT
END:VCALENDAR
